BEGIN:VCALENDAR
VERSION:2.0
PRODID:-//WorkSource Seattle-King County - ECPv6.6.4.2//NONSGML v1.0//EN
CALSCALE:GREGORIAN
METHOD:PUBLISH
X-WR-CALNAME:WorkSource Seattle-King County
X-ORIGINAL-URL:https://www.worksourceskc.org
X-WR-CALDESC:Events for WorkSource Seattle-King County
REFRESH-INTERVAL;VALUE=DURATION:PT1H
X-Robots-Tag:noindex
X-PUBLISHED-TTL:PT1H
BEGIN:VTIMEZONE
TZID:America/Los_Angeles
BEGIN:DAYLIGHT
TZOFFSETFROM:-0800
TZOFFSETTO:-0700
TZNAME:PDT
DTSTART:20260308T100000
END:DAYLIGHT
BEGIN:STANDARD
TZOFFSETFROM:-0700
TZOFFSETTO:-0800
TZNAME:PST
DTSTART:20261101T090000
END:STANDARD
END:VTIMEZONE
BEGIN:VEVENT
DTSTART;TZID=America/Los_Angeles:20260420T083000
DTEND;TZID=America/Los_Angeles:20260423T113000
DTSTAMP:20260423T020425
CREATED:20260322T125922Z
LAST-MODIFIED:20260322T125922Z
UID:10021277-1776673800-1776943800@www.worksourceskc.org
SUMMARY:ONLINE Strategies for Success: Work Concepts II (N. Seattle)
DESCRIPTION:Class times: 8:30AM-11:30AM (4-day class) \nModule 6: Work concepts II – You found the perfect job; now let us talk about how to land and keep it! \n\nLearn how to multitask and stay motivated	\nExplore your personal leadership and organization skills	\nLearn to evaluate trauma vs. drama and how to manage the unexpected	\nUnderstand cognitive bias and how it impacts every decision we make	\nDevelop a solid vision for a professional future
URL:https://www.worksourceskc.org/event/online-strategies-for-success-work-concepts-ii-n-seattle-942/
CATEGORIES:North Seattle
END:VEVENT
BEGIN:VEVENT
DTSTART;TZID=America/Los_Angeles:20260420T083000
DTEND;TZID=America/Los_Angeles:20260423T113000
DTSTAMP:20260423T020425
CREATED:20260322T130028Z
LAST-MODIFIED:20260322T130028Z
UID:10021287-1776673800-1776943800@www.worksourceskc.org
SUMMARY:ONLINE Strategies for Success: Work Concepts II (N. Seattle)
DESCRIPTION:Class times: 8:30AM-11:30AM (4-day class) \nModule 6: Work concepts II – You found the perfect job; now let us talk about how to land and keep it! \n\nLearn how to multitask and stay motivated	\nExplore your personal leadership and organization skills	\nLearn to evaluate trauma vs. drama and how to manage the unexpected	\nUnderstand cognitive bias and how it impacts every decision we make	\nDevelop a solid vision for a professional future
URL:https://www.worksourceskc.org/event/online-strategies-for-success-work-concepts-ii-n-seattle-943/
CATEGORIES:Virtual Online Events
END:VEVENT
BEGIN:VEVENT
DTSTART;TZID=America/Los_Angeles:20260420T083000
DTEND;TZID=America/Los_Angeles:20260423T113000
DTSTAMP:20260423T020425
CREATED:20260322T130106Z
LAST-MODIFIED:20260420T225041Z
UID:10021303-1776673800-1776943800@www.worksourceskc.org
SUMMARY:ONLINE Strategies for Success: Work Concepts II (N. Seattle)
DESCRIPTION:Class times: 8:30AM-11:30AM (4-day class) \nModule 6: Work concepts II – You found the perfect job; now let us talk about how to land and keep it! \n\nLearn how to multitask and stay motivated	\nExplore your personal leadership and organization skills	\nLearn to evaluate trauma vs. drama and how to manage the unexpected	\nUnderstand cognitive bias and how it impacts every decision we make	\nDevelop a solid vision for a professional future
URL:https://www.worksourceskc.org/event/online-strategies-for-success-work-concepts-ii-n-seattle-944/
CATEGORIES:North Seattle
END:VEVENT
BEGIN:VEVENT
DTSTART;TZID=America/Los_Angeles:20260420T083000
DTEND;TZID=America/Los_Angeles:20260423T113000
DTSTAMP:20260423T020425
CREATED:20260322T130128Z
LAST-MODIFIED:20260420T225041Z
UID:10021309-1776673800-1776943800@www.worksourceskc.org
SUMMARY:ONLINE Strategies for Success: Work Concepts II (N. Seattle)
DESCRIPTION:Class times: 8:30AM-11:30AM (4-day class) \nModule 6: Work concepts II – You found the perfect job; now let us talk about how to land and keep it! \n\nLearn how to multitask and stay motivated	\nExplore your personal leadership and organization skills	\nLearn to evaluate trauma vs. drama and how to manage the unexpected	\nUnderstand cognitive bias and how it impacts every decision we make	\nDevelop a solid vision for a professional future
URL:https://www.worksourceskc.org/event/online-strategies-for-success-work-concepts-ii-n-seattle-945/
CATEGORIES:North Seattle
END:VEVENT
BEGIN:VEVENT
DTSTART;TZID=America/Los_Angeles:20260420T090000
DTEND;TZID=America/Los_Angeles:20260423T120000
DTSTAMP:20260423T020425
CREATED:20260322T130029Z
LAST-MODIFIED:20260420T224904Z
UID:10021288-1776675600-1776945600@www.worksourceskc.org
SUMMARY:Online Strategies for Success: Communication (Shelton/Mason)
DESCRIPTION:Communication – Communication is a skill that never stops growing! Come learn how to improve your skills and odds of landing that next job! \n\nLearn about interpersonal and business communication and discover your own style	\nDevelop better listening\, writing\, computer and presentation skills	\nFind out about verbal & non-verbal cues\, practice conflict resolution and get tips on emotional control	\nGet tips on how to present yourself the right way on the phone\, in email and on social media.
URL:https://www.worksourceskc.org/event/online-strategies-for-success-communication-shelton-mason-144/
CATEGORIES:Virtual Online Events
END:VEVENT
BEGIN:VEVENT
DTSTART;TZID=America/Los_Angeles:20260420T090000
DTEND;TZID=America/Los_Angeles:20260423T120000
DTSTAMP:20260423T020425
CREATED:20260322T130031Z
LAST-MODIFIED:20260420T224905Z
UID:10021290-1776675600-1776945600@www.worksourceskc.org
SUMMARY:ONLINE Strategies for Success: Communication (Colville)
DESCRIPTION:Communication – Communication is a skill that never stops growing! Come learn how to improve your skills and odds of landing that next job! \n\nLearn about interpersonal and business communication and discover your own style	\nDevelop better listening\, writing\, computer and presentation skills	\nFind out about verbal & non-verbal cues\, practice conflict resolution and get tips on emotional control	\nGet tips on how to present yourself the right way on the phone\, in email and on social media.
URL:https://www.worksourceskc.org/event/online-strategies-for-success-communication-colville-212/
CATEGORIES:Virtual Online Events
END:VEVENT
BEGIN:VEVENT
DTSTART;TZID=America/Los_Angeles:20260420T090000
DTEND;TZID=America/Los_Angeles:20260423T120000
DTSTAMP:20260423T020425
CREATED:20260322T130033Z
LAST-MODIFIED:20260420T224907Z
UID:10021292-1776675600-1776945600@www.worksourceskc.org
SUMMARY:Online Strategies for Success: Communication(Okanogan)
DESCRIPTION:Communication – Communication is a skill that never stops growing! Come learn how to improve your skills and odds of landing that next job! \n\nLearn about interpersonal and business communication and discover your own style	\nDevelop better listening\, writing\, computer and presentation skills	\nFind out about verbal & non-verbal cues\, practice conflict resolution and get tips on emotional control	\nGet tips on how to present yourself the right way on the phone\, in email and on social media.
URL:https://www.worksourceskc.org/event/online-strategies-for-success-communicationokanogan-6/
CATEGORIES:Virtual Online Events
END:VEVENT
BEGIN:VEVENT
DTSTART;TZID=America/Los_Angeles:20260420T090000
DTEND;TZID=America/Los_Angeles:20260423T120000
DTSTAMP:20260423T020425
CREATED:20260322T130034Z
LAST-MODIFIED:20260420T224907Z
UID:10021293-1776675600-1776945600@www.worksourceskc.org
SUMMARY:Online: Strategies for Success: Work Concepts II ( Wenatchee)
DESCRIPTION:Work Concepts II – You found the perfect job; now let us talk about how to land and keep it! \n\nLearn how to multitask and stay motivated	\nExplore your personal leadership and organization skills	\nLearn to evaluate trauma vs. drama and how to manage the unexpected	\nUnderstand cognitive bias and how it impacts every decision we make	\nDevelop a solid vision for a professional future
URL:https://www.worksourceskc.org/event/online-strategies-for-success-work-concepts-ii-wenatchee-178/
CATEGORIES:Virtual Online Events
END:VEVENT
BEGIN:VEVENT
DTSTART;TZID=America/Los_Angeles:20260420T090000
DTEND;TZID=America/Los_Angeles:20260423T120000
DTSTAMP:20260423T020425
CREATED:20260322T130035Z
LAST-MODIFIED:20260420T224908Z
UID:10021294-1776675600-1776945600@www.worksourceskc.org
SUMMARY:Online: Strategies for Success: Work Concepts II (Central Basin)
DESCRIPTION:Work Concepts II – You found the perfect job; now let us talk about how to land and keep it! \n\nLearn how to multitask and stay motivated	\nExplore your personal leadership and organization skills	\nLearn to evaluate trauma vs. drama and how to manage the unexpected	\nUnderstand cognitive bias and how it impacts every decision we make	\nDevelop a solid vision for a professional future
URL:https://www.worksourceskc.org/event/online-strategies-for-success-work-concepts-ii-central-basin-6/
CATEGORIES:Virtual Online Events
END:VEVENT
BEGIN:VEVENT
DTSTART;TZID=America/Los_Angeles:20260420T090000
DTEND;TZID=America/Los_Angeles:20260423T120000
DTSTAMP:20260423T020425
CREATED:20260322T130036Z
LAST-MODIFIED:20260420T224909Z
UID:10021295-1776675600-1776945600@www.worksourceskc.org
SUMMARY:(Spanish SFS) EN LINEA Estrategias para el Éxito: Module 3 Comunicación - en todo el estado
DESCRIPTION:
URL:https://www.worksourceskc.org/event/spanish-sfs-en-linea-estrategias-para-el-xito-module-3-comunicacin-en-todo-el-estado-115/
CATEGORIES:Virtual Online Events
END:VEVENT
BEGIN:VEVENT
DTSTART;TZID=America/Los_Angeles:20260420T090000
DTEND;TZID=America/Los_Angeles:20260424T110000
DTSTAMP:20260423T020425
CREATED:20260405T085736Z
LAST-MODIFIED:20260420T225041Z
UID:10021844-1776675600-1777028400@www.worksourceskc.org
SUMMARY:Digital Literacy Classes
DESCRIPTION:Digital Literacy Classes scheduled for January: \nSchedule: Class A: Mondays & Wednesdays Class B: Tuesdays & Thursdays \nNote: Class B repeats the same content\, providing an additional opportunity for participants who missed Class A or would like to reinforce their learning. These sessions are designed to run throughout the month of January. Participants may attend repeatedly\, as each Class B session will repeat the content of the corresponding Class A session. This ensures that anyone who misses the first session will have another opportunity to complete the same training. These sessions will run from 9:00 AM to 11:00 AM\, four days each week for five weeks
URL:https://www.worksourceskc.org/event/digital-literacy-classes-1503/
CATEGORIES:WorkSource Rainier
END:VEVENT
BEGIN:VEVENT
DTSTART;TZID=America/Los_Angeles:20260420T130000
DTEND;TZID=America/Los_Angeles:20260423T160000
DTSTAMP:20260423T020425
CREATED:20260327T152607Z
LAST-MODIFIED:20260420T224911Z
UID:10021578-1776690000-1776960000@www.worksourceskc.org
SUMMARY:ONLINE Strategies for Success: Work Concepts II (Island)
DESCRIPTION:Work Concepts II – You found the perfect job; now let us talk about how to land and keep it! \n\nLearn how to multitask and stay motivated	\nExplore your personal leadership and organization skills	\nLearn to evaluate trauma vs. drama and how to manage the unexpected	\nUnderstand cognitive bias and how it impacts every decision we make	\nDevelop a solid vision for a professional future
URL:https://www.worksourceskc.org/event/online-strategies-for-success-work-concepts-ii-island-243/
CATEGORIES:Virtual Online Events
END:VEVENT
BEGIN:VEVENT
DTSTART;TZID=America/Los_Angeles:20260423T090000
DTEND;TZID=America/Los_Angeles:20260423T110000
DTSTAMP:20260423T020425
CREATED:20260325T085945Z
LAST-MODIFIED:20260423T074337Z
UID:10021438-1776934800-1776942000@www.worksourceskc.org
SUMMARY:Career Circle
DESCRIPTION:A virtual job club/networking fellowship geared to assist job seekers in job search strategies\, resume/cover letter/interview coaching and feedback. Networking with other job seekers\, sharing dilemmas and identifying resolutions. Sharing victorious job search and interview stories\, joining in mock interviews and other fun and informative activities based on the groups’ wants/needs. Each meeting will include a relevant presentation. \nRegistration required to receive Teams link to workshop.If you are signing up AFTER 8:00AM the day prior to the workshop please also email cany235@lni.wa.gov. \nPlease go to WorkSourceWA.com and create your account prior to attending this workshop.
URL:https://www.worksourceskc.org/event/career-circle-1674/
CATEGORIES:Hiring Events and Job Fairs
END:VEVENT
BEGIN:VEVENT
DTSTART;TZID=America/Los_Angeles:20260423T090000
DTEND;TZID=America/Los_Angeles:20260423T110000
DTSTAMP:20260423T020425
CREATED:20260325T090107Z
LAST-MODIFIED:20260423T074343Z
UID:10021461-1776934800-1776942000@www.worksourceskc.org
SUMMARY:ONLINE - Financial Capabilities: Your Money\, Your Future (Island)
DESCRIPTION:Your money\, your future \nExamine the long term effects of your financial decisions and how to talk to your kids about money.
URL:https://www.worksourceskc.org/event/online-financial-capabilities-your-money-your-future-island-335/
CATEGORIES:Virtual Online Events
END:VEVENT
BEGIN:VEVENT
DTSTART;TZID=America/Los_Angeles:20260423T093000
DTEND;TZID=America/Los_Angeles:20260423T110000
DTSTAMP:20260423T020425
CREATED:20260325T085842Z
LAST-MODIFIED:20260420T225052Z
UID:10021416-1776936600-1776942000@www.worksourceskc.org
SUMMARY:STATEWIDE: ESD Self‐Employment Assistance Program (SEAP) Orientation (Virtual)
DESCRIPTION:The Self‐Employment Assistance Program (SEAP) may be a great opportunity if you want to start a business! \nOnce approved\, SEAP is a unique program that enables you to:· Receive entrepreneurial counseling and business coaching through a pre‐approved training provider· Continue to collect Unemployment Insurance (UI) benefits while developing your business plans· Work on creating your business and waives the weekly work‐search requirement \nYou are invited to attend a virtual workshop to explore:• What is SEAP? What does SEAP not do?• Program eligibility requirements and deadlines • Locate and download from the SEAP Approved Provider List• What are the responsibilities of an approved training provider?• Research the proper training on the SEAP Approved Provider List• Frequently asked questions (FAQ)• How to properly complete and submit the SEAP Application• Certification of Satisfactory Progress• Your responsibilities while enrolled in SEAP and to remain eligible• Job Search Requirements\, WorkSource offices\, and contact information \nFor further information\, contact Laura Aunan at laura.aunan@esd.wa.gov
URL:https://www.worksourceskc.org/event/statewide-esd-selfemployment-assistance-program-seap-orientation-virtual-2420/
CATEGORIES:WorkSource Auburn
END:VEVENT
BEGIN:VEVENT
DTSTART;TZID=America/Los_Angeles:20260423T093000
DTEND;TZID=America/Los_Angeles:20260423T110000
DTSTAMP:20260423T020425
CREATED:20260325T085852Z
LAST-MODIFIED:20260423T074529Z
UID:10021419-1776936600-1776942000@www.worksourceskc.org
SUMMARY:STATEWIDE: ESD Self‐Employment Assistance Program (SEAP) Orientation (Virtual)
DESCRIPTION:The Self‐Employment Assistance Program (SEAP) may be a great opportunity if you want to start a business! \nOnce approved\, SEAP is a unique program that enables you to:· Receive entrepreneurial counseling and business coaching through a pre‐approved training provider· Continue to collect Unemployment Insurance (UI) benefits while developing your business plans· Work on creating your business and waives the weekly work‐search requirement \nYou are invited to attend a virtual workshop to explore:• What is SEAP? What does SEAP not do?• Program eligibility requirements and deadlines • Locate and download from the SEAP Approved Provider List• What are the responsibilities of an approved training provider?• Research the proper training on the SEAP Approved Provider List• Frequently asked questions (FAQ)• How to properly complete and submit the SEAP Application• Certification of Satisfactory Progress• Your responsibilities while enrolled in SEAP and to remain eligible• Job Search Requirements\, WorkSource offices\, and contact information \nFor further information\, contact Laura Aunan at laura.aunan@esd.wa.gov
URL:https://www.worksourceskc.org/event/statewide-esd-selfemployment-assistance-program-seap-orientation-virtual-2421/
CATEGORIES:WorkSource Auburn
END:VEVENT
BEGIN:VEVENT
DTSTART;TZID=America/Los_Angeles:20260423T100000
DTEND;TZID=America/Los_Angeles:20260423T150000
DTSTAMP:20260423T020425
CREATED:20260325T230109Z
LAST-MODIFIED:20260325T230111Z
UID:10021525-1776938400-1776956400@www.worksourceskc.org
SUMMARY:Collaboration For a Cause: Regional Opportunity Fair
DESCRIPTION:
URL:https://www.worksourceskc.org/event/collaboration-for-a-cause-regional-opportunity-fair/
CATEGORIES:Business Services,Downtown Seattle,Hiring Events and Job Fairs,North Seattle,South Seattle
END:VEVENT
BEGIN:VEVENT
DTSTART;TZID=America/Los_Angeles:20260423T110000
DTEND;TZID=America/Los_Angeles:20260423T120000
DTSTAMP:20260423T020425
CREATED:20260325T090110Z
LAST-MODIFIED:20260423T074346Z
UID:10021463-1776942000-1776945600@www.worksourceskc.org
SUMMARY:CANCELLED - BFET-Basic Food Employment & Training Orientation - Clark County Residents Only
DESCRIPTION:Basic Food Employment & Training Orientation for Clark County \nAre you receiving food benefits (SNAP)* and looking for a job? \nOur BFET program can help! \nBFET stands for Basic Food Employment and Training. Here at Vancouver WorkSource\, we have case managers that can help you one-on-one to access job training\, job search assistance\, and supportive services like transportation assistance and work clothing. Register for this orientation to learn more about how BFET can help you obtain employment and the resources that you need to succeed on your career journey.*You must be receiving Federal Food Benefits (SNAP) in order to qualify for this program. \nPlease go to WorkSourceWA.com and create your account prior to attending this workshop.
URL:https://www.worksourceskc.org/event/cancelled-bfet-basic-food-employment-training-orientation-clark-county-residents-only-39/
CATEGORIES:Virtual Online Events
END:VEVENT
BEGIN:VEVENT
DTSTART;TZID=America/Los_Angeles:20260423T120000
DTEND;TZID=America/Los_Angeles:20260423T150000
DTSTAMP:20260423T020425
CREATED:20260405T085751Z
LAST-MODIFIED:20260423T074338Z
UID:10021850-1776945600-1776956400@www.worksourceskc.org
SUMMARY:Spring Fling Job Fair
DESCRIPTION:We’re excited to invite you to the Annual Spring Fling Job Fair\, a signature community event that brings together top employers\, job seekers\, and local partners for a high‑energy day of opportunity and connection.Join us at Sunnyside WorkSource for a fast‑paced\, high‑traffic job fair designed to help you make meaningful career moves in a single afternoon. event of the season.
URL:https://www.worksourceskc.org/event/spring-fling-job-fair-21/
CATEGORIES:Hiring Events and Job Fairs
END:VEVENT
BEGIN:VEVENT
DTSTART;TZID=America/Los_Angeles:20260423T130000
DTEND;TZID=America/Los_Angeles:20260423T140000
DTSTAMP:20260423T020425
CREATED:20260325T085920Z
LAST-MODIFIED:20260325T085920Z
UID:10021430-1776949200-1776952800@www.worksourceskc.org
SUMMARY:Amharic - ክልል ሰፊ ኦንላይን (Online) ወርክሾፕ የሥራ ፍለጋ ስልቶች /Job Search Strategies
DESCRIPTION:  ክልል ሰፊ ኦንላይን (Online) ወርክሾፕ የሥራ ፍለጋ ስልቶች \n በአካባቢዎ ስላሉ ቀጣሪዎች መፈለግ እና የሥራ ፍለጋዎን የሚያነጣጥር ስትራቴጂ መፍጠር ለስኬት ቁልፍ ነው ፡፡ \nበሥራ ፍለጋ ስትራቴጂዎች ክፍል ውስጥ የተለያዩ የሥራ ፍለጋ ዘዴዎችን ይማራሉ! ይህ ክፍል የሥራ ገበያ መረጃ ዋጋን በተመለከተ ጠቃሚ ምክሮችን ይሰጣል እንዲሁም እንደ አውታረ መረቡ (Networking)፣ የመረጃ ነክ ቃለ መጠይቆች እና የሥራ ክፍት ቦታዎችን ለማግኘት በይነመረብን (Internet) እንደ ሌሎች ስልቶችን ያስተዋውቃል ፡፡ 
URL:https://www.worksourceskc.org/event/amharic-online-580/
CATEGORIES:North Seattle
END:VEVENT
BEGIN:VEVENT
DTSTART;TZID=America/Los_Angeles:20260423T130000
DTEND;TZID=America/Los_Angeles:20260423T140000
DTSTAMP:20260423T020425
CREATED:20260325T090203Z
LAST-MODIFIED:20260420T225055Z
UID:10021483-1776949200-1776952800@www.worksourceskc.org
SUMMARY:Amharic - ክልል ሰፊ ኦንላይን (Online) ወርክሾፕ የሥራ ፍለጋ ስልቶች /Job Search Strategies
DESCRIPTION:  ክልል ሰፊ ኦንላይን (Online) ወርክሾፕ የሥራ ፍለጋ ስልቶች \n በአካባቢዎ ስላሉ ቀጣሪዎች መፈለግ እና የሥራ ፍለጋዎን የሚያነጣጥር ስትራቴጂ መፍጠር ለስኬት ቁልፍ ነው ፡፡ \nበሥራ ፍለጋ ስትራቴጂዎች ክፍል ውስጥ የተለያዩ የሥራ ፍለጋ ዘዴዎችን ይማራሉ! ይህ ክፍል የሥራ ገበያ መረጃ ዋጋን በተመለከተ ጠቃሚ ምክሮችን ይሰጣል እንዲሁም እንደ አውታረ መረቡ (Networking)፣ የመረጃ ነክ ቃለ መጠይቆች እና የሥራ ክፍት ቦታዎችን ለማግኘት በይነመረብን (Internet) እንደ ሌሎች ስልቶችን ያስተዋውቃል ፡፡ 
URL:https://www.worksourceskc.org/event/amharic-online-581/
CATEGORIES:North Seattle
END:VEVENT
BEGIN:VEVENT
DTSTART;TZID=America/Los_Angeles:20260423T130000
DTEND;TZID=America/Los_Angeles:20260423T140000
DTSTAMP:20260423T020425
CREATED:20260325T090247Z
LAST-MODIFIED:20260423T074532Z
UID:10021499-1776949200-1776952800@www.worksourceskc.org
SUMMARY:Amharic - ክልል ሰፊ ኦንላይን (Online) ወርክሾፕ የሥራ ፍለጋ ስልቶች /Job Search Strategies
DESCRIPTION:  ክልል ሰፊ ኦንላይን (Online) ወርክሾፕ የሥራ ፍለጋ ስልቶች \n በአካባቢዎ ስላሉ ቀጣሪዎች መፈለግ እና የሥራ ፍለጋዎን የሚያነጣጥር ስትራቴጂ መፍጠር ለስኬት ቁልፍ ነው ፡፡ \nበሥራ ፍለጋ ስትራቴጂዎች ክፍል ውስጥ የተለያዩ የሥራ ፍለጋ ዘዴዎችን ይማራሉ! ይህ ክፍል የሥራ ገበያ መረጃ ዋጋን በተመለከተ ጠቃሚ ምክሮችን ይሰጣል እንዲሁም እንደ አውታረ መረቡ (Networking)፣ የመረጃ ነክ ቃለ መጠይቆች እና የሥራ ክፍት ቦታዎችን ለማግኘት በይነመረብን (Internet) እንደ ሌሎች ስልቶችን ያስተዋውቃል ፡፡ 
URL:https://www.worksourceskc.org/event/amharic-online-582/
CATEGORIES:North Seattle
END:VEVENT
BEGIN:VEVENT
DTSTART;TZID=America/Los_Angeles:20260423T130000
DTEND;TZID=America/Los_Angeles:20260423T150000
DTSTAMP:20260423T020425
CREATED:20260325T085921Z
LAST-MODIFIED:20260423T074532Z
UID:10021431-1776949200-1776956400@www.worksourceskc.org
SUMMARY:Work Smart Program – Introduction to LinkedIn
DESCRIPTION:Introduction to LinkedIn: This workshop features a discussion of the value of LinkedIn and walks participants through the process of setting up a LinkedIn account and creating a Profile. Best for those who are new to LinkedIn or have an account but have not been actively using it. REQUIREMENTS TO ATTEND: 1. General computer\, internet and email knowledge. 2. Access to their LinkedIn account during the workshop. For those without a current LinkedIn account\, please go to LinkedIn.com and follow the set-up prompts: email\, a new password\, location\, industry\, reason for joining\, etc. prior to the workshop.
URL:https://www.worksourceskc.org/event/work-smart-program-introduction-to-linkedin-2151/
CATEGORIES:North Seattle
END:VEVENT
BEGIN:VEVENT
DTSTART;TZID=America/Los_Angeles:20260423T130000
DTEND;TZID=America/Los_Angeles:20260423T160000
DTSTAMP:20260423T020425
CREATED:20260325T085844Z
LAST-MODIFIED:20260325T085844Z
UID:10021417-1776949200-1776960000@www.worksourceskc.org
SUMMARY:Currículum Vítae y Correspondencia - EN LÍNEA - en todo el estado
DESCRIPTION:La gente que ha tenido éxito en el buscar trabajo se ha esforzado para saber lo que buscan los empleadores. Aprenderá cómo dos de las cuatro partes principales de la comunicación relacionada con la búsqueda de trabajo le dicen al empleador quien es usted\, lo que sabe y lo que ofrece. Aprenderá cual formato de currículo funciona mejor en cual situación y cómo preparar la carta de presentación. Puede poner énfasis en sus destrezas y habilidades\, llamar la atención de los empleadores y recibir invitaciones a más entrevistas.
URL:https://www.worksourceskc.org/event/currculum-vtae-y-correspondencia-en-lnea-en-todo-el-estado-2244/
CATEGORIES:WorkSource Auburn
END:VEVENT
BEGIN:VEVENT
DTSTART;TZID=America/Los_Angeles:20260423T130000
DTEND;TZID=America/Los_Angeles:20260423T160000
DTSTAMP:20260423T020425
CREATED:20260325T085853Z
LAST-MODIFIED:20260325T085853Z
UID:10021420-1776949200-1776960000@www.worksourceskc.org
SUMMARY:Currículum Vítae y Correspondencia - EN LÍNEA - en todo el estado
DESCRIPTION:La gente que ha tenido éxito en el buscar trabajo se ha esforzado para saber lo que buscan los empleadores. Aprenderá cómo dos de las cuatro partes principales de la comunicación relacionada con la búsqueda de trabajo le dicen al empleador quien es usted\, lo que sabe y lo que ofrece. Aprenderá cual formato de currículo funciona mejor en cual situación y cómo preparar la carta de presentación. Puede poner énfasis en sus destrezas y habilidades\, llamar la atención de los empleadores y recibir invitaciones a más entrevistas.
URL:https://www.worksourceskc.org/event/currculum-vtae-y-correspondencia-en-lnea-en-todo-el-estado-2245/
CATEGORIES:Downtown Seattle
END:VEVENT
BEGIN:VEVENT
DTSTART;TZID=America/Los_Angeles:20260423T130000
DTEND;TZID=America/Los_Angeles:20260423T160000
DTSTAMP:20260423T020425
CREATED:20260325T085923Z
LAST-MODIFIED:20260325T085923Z
UID:10021432-1776949200-1776960000@www.worksourceskc.org
SUMMARY:Currículum Vítae y Correspondencia - EN LÍNEA - en todo el estado
DESCRIPTION:La gente que ha tenido éxito en el buscar trabajo se ha esforzado para saber lo que buscan los empleadores. Aprenderá cómo dos de las cuatro partes principales de la comunicación relacionada con la búsqueda de trabajo le dicen al empleador quien es usted\, lo que sabe y lo que ofrece. Aprenderá cual formato de currículo funciona mejor en cual situación y cómo preparar la carta de presentación. Puede poner énfasis en sus destrezas y habilidades\, llamar la atención de los empleadores y recibir invitaciones a más entrevistas.
URL:https://www.worksourceskc.org/event/currculum-vtae-y-correspondencia-en-lnea-en-todo-el-estado-2246/
CATEGORIES:North Seattle
END:VEVENT
BEGIN:VEVENT
DTSTART;TZID=America/Los_Angeles:20260423T130000
DTEND;TZID=America/Los_Angeles:20260423T160000
DTSTAMP:20260423T020425
CREATED:20260325T085937Z
LAST-MODIFIED:20260325T085937Z
UID:10021435-1776949200-1776960000@www.worksourceskc.org
SUMMARY:Currículum Vítae y Correspondencia - EN LÍNEA - en todo el estado
DESCRIPTION:La gente que ha tenido éxito en el buscar trabajo se ha esforzado para saber lo que buscan los empleadores. Aprenderá cómo dos de las cuatro partes principales de la comunicación relacionada con la búsqueda de trabajo le dicen al empleador quien es usted\, lo que sabe y lo que ofrece. Aprenderá cual formato de currículo funciona mejor en cual situación y cómo preparar la carta de presentación. Puede poner énfasis en sus destrezas y habilidades\, llamar la atención de los empleadores y recibir invitaciones a más entrevistas.
URL:https://www.worksourceskc.org/event/currculum-vtae-y-correspondencia-en-lnea-en-todo-el-estado-2247/
CATEGORIES:WorkSource Rainier
END:VEVENT
BEGIN:VEVENT
DTSTART;TZID=America/Los_Angeles:20260423T130000
DTEND;TZID=America/Los_Angeles:20260423T160000
DTSTAMP:20260423T020425
CREATED:20260325T090118Z
LAST-MODIFIED:20260420T224837Z
UID:10021466-1776949200-1776960000@www.worksourceskc.org
SUMMARY:Currículum Vítae y Correspondencia - EN LÍNEA - en todo el estado
DESCRIPTION:La gente que ha tenido éxito en el buscar trabajo se ha esforzado para saber lo que buscan los empleadores. Aprenderá cómo dos de las cuatro partes principales de la comunicación relacionada con la búsqueda de trabajo le dicen al empleador quien es usted\, lo que sabe y lo que ofrece. Aprenderá cual formato de currículo funciona mejor en cual situación y cómo preparar la carta de presentación. Puede poner énfasis en sus destrezas y habilidades\, llamar la atención de los empleadores y recibir invitaciones a más entrevistas.
URL:https://www.worksourceskc.org/event/currculum-vtae-y-correspondencia-en-lnea-en-todo-el-estado-2248/
CATEGORIES:North Seattle
END:VEVENT
BEGIN:VEVENT
DTSTART;TZID=America/Los_Angeles:20260423T130000
DTEND;TZID=America/Los_Angeles:20260423T160000
DTSTAMP:20260423T020425
CREATED:20260325T090207Z
LAST-MODIFIED:20260423T074534Z
UID:10021485-1776949200-1776960000@www.worksourceskc.org
SUMMARY:Currículum Vítae y Correspondencia - EN LÍNEA - en todo el estado
DESCRIPTION:La gente que ha tenido éxito en el buscar trabajo se ha esforzado para saber lo que buscan los empleadores. Aprenderá cómo dos de las cuatro partes principales de la comunicación relacionada con la búsqueda de trabajo le dicen al empleador quien es usted\, lo que sabe y lo que ofrece. Aprenderá cual formato de currículo funciona mejor en cual situación y cómo preparar la carta de presentación. Puede poner énfasis en sus destrezas y habilidades\, llamar la atención de los empleadores y recibir invitaciones a más entrevistas.
URL:https://www.worksourceskc.org/event/currculum-vtae-y-correspondencia-en-lnea-en-todo-el-estado-2249/
CATEGORIES:WorkSource Auburn
END:VEVENT
BEGIN:VEVENT
DTSTART;TZID=America/Los_Angeles:20260423T130000
DTEND;TZID=America/Los_Angeles:20260423T170000
DTSTAMP:20260423T020425
CREATED:20260405T085745Z
LAST-MODIFIED:20260405T085745Z
UID:10021848-1776949200-1776963600@www.worksourceskc.org
SUMMARY:In Person UI Assistance
DESCRIPTION:
URL:https://www.worksourceskc.org/event/in-person-ui-assistance-1948/
CATEGORIES:WorkSource Rainier
END:VEVENT
END:VCALENDAR